BEGIN:VCALENDAR
VERSION:2.0
PRODID:-//Sons and Daughters of Italy - ECPv6.15.20//NONSGML v1.0//EN
CALSCALE:GREGORIAN
METHOD:PUBLISH
X-ORIGINAL-URL:https://sonsanddaughtersofitaly.org
X-WR-CALDESC:Events for Sons and Daughters of Italy
REFRESH-INTERVAL;VALUE=DURATION:PT1H
X-Robots-Tag:noindex
X-PUBLISHED-TTL:PT1H
BEGIN:VTIMEZONE
TZID:America/Winnipeg
BEGIN:DAYLIGHT
TZOFFSETFROM:-0600
TZOFFSETTO:-0500
TZNAME:CDT
DTSTART:20240310T080000
END:DAYLIGHT
BEGIN:STANDARD
TZOFFSETFROM:-0500
TZOFFSETTO:-0600
TZNAME:CST
DTSTART:20241103T070000
END:STANDARD
BEGIN:DAYLIGHT
TZOFFSETFROM:-0600
TZOFFSETTO:-0500
TZNAME:CDT
DTSTART:20250309T080000
END:DAYLIGHT
BEGIN:STANDARD
TZOFFSETFROM:-0500
TZOFFSETTO:-0600
TZNAME:CST
DTSTART:20251102T070000
END:STANDARD
BEGIN:DAYLIGHT
TZOFFSETFROM:-0600
TZOFFSETTO:-0500
TZNAME:CDT
DTSTART:20260308T080000
END:DAYLIGHT
BEGIN:STANDARD
TZOFFSETFROM:-0500
TZOFFSETTO:-0600
TZNAME:CST
DTSTART:20261101T070000
END:STANDARD
BEGIN:DAYLIGHT
TZOFFSETFROM:-0600
TZOFFSETTO:-0500
TZNAME:CDT
DTSTART:20270314T080000
END:DAYLIGHT
BEGIN:STANDARD
TZOFFSETFROM:-0500
TZOFFSETTO:-0600
TZNAME:CST
DTSTART:20271107T070000
END:STANDARD
END:VTIMEZONE
BEGIN:VEVENT
DTSTART;TZID=America/Winnipeg:20250315T170000
DTEND;TZID=America/Winnipeg:20250315T223000
DTSTAMP:20260422T170928
CREATED:20251014T202256Z
LAST-MODIFIED:20251106T164639Z
UID:463-1742058000-1742077800@sonsanddaughtersofitaly.org
SUMMARY:Sons and Daughters of Italy Gala 2025
DESCRIPTION:Order Sons and Daughters of Italy\, Garibaldi Lodge held its 37th Annual Gala Dinner on Saturday\, March 15\, 2025 in the York Ballroom of the RBC Convention Centre.Presented by CentrePort Canada Railpark and Focus Equities\, this acclaimed event not only demonstrated the philanthropic spirit of Sons and Daughters of Italy\, but also the caring and giving that Winnipeggers\, their businesses and leaders are known for.  \n\n\n\nThe 2025 Gala was held in support of the Anne Oake Family Recovery Centre! \n\n\n\nAttendees enjoyed a welcoming reception\, an outstanding five course dinner\, fine wines\, engaging (and short) presentations\, and wonderful music that had two dance floors full. \n\n\n\n\n\n\n\nThe 2025 SDOI Gala is generously presented by:\n\n\n\n\n\n\n\n\n\n\n\nIn Support of the Anne Oake Recovery Centre\n\n\n\n\n\n\n\nThe Anne Oake Family Recovery Centre is the latest initiative by the Bruce and Anne Oake Memorial Foundation\, building upon the remarkable success of the Bruce Oake Recovery Centre. Now debt-free and fully self-sustaining\, the Foundation is excited to embark on this new endeavor\, extending its support to women and their families on their journey to recovery. \n\n\n\nSince its inception\, the Bruce Oake Recovery Centre has been a beacon of hope and transformation for countless men and their families. The unwavering support and commitment of these individuals have ensured the effectiveness of the program\, creating a robust model of recovery and rehabilitation. This proven success has positioned the foundation to expand its mission and address the needs of women seeking similar support and guidance. \n\n\n\nThe Anne Oake Family Recovery Centre will be a 50\,000 sq. ft. state-of-the-art facility and will be housed on the Victoria Hospital grounds. The 50 bed facility will offer comprehensive programs tailored to meet the unique needs of women and their families\, fostering a holistic approach to recovery that encompasses physical\, emotional\, and mental well-being. The facility will include spaces for therapy\, group sessions\, and recreational activities\, ensuring a well-rounded and supportive experience for all participants. \n\n\n\nThe Anne Oake Family Recovery Centre represents a new chapter in this ongoing journey\, offering hope and healing to women and their families across our community.  Sons and Daughters of Italy\, Garibaldi Lodge is pleased to be able to again provide funding assistance to the Bruce and Anne Oake Memorial Foundation\, this time for a centre focused on the recovery of women. \n\n\n\n\n\n\n\nVIDEO REVIEW OF 2054 GALA\n\n\n\n\n\n\n\n\n\n\n\n\n\nCIBPA AWARD WINNER – IDA ALBO\n\n\n\n\n\n\n\n\n\n\n\nThe Canadian Italian Business Professional (CIBPA) awardis given to a business professional of Italian heritage who gains a high level of professional achievement while at the same time continues to recognize their Italian heritage by working within both the Italian community of Winnipeg as well as the greater community to achieve improvements. \n\n\n\nSee our CIBPA Awards page for previous winners of this prestigious award. \n\n\n\n\n\n\n\n\n\n\n\n\n\nEntertainment\n\n\n\n\n\n\n\nAnd if that isn’t enough\, there is more… \n\n\n\n\n\n\n\n\n\n\n\nThe Meal\n\n\n\n\n\nGreat food is always a hallmark of any Sons and Daughters of Italy event and this year’s Gala dinner continued the tradition.  \n\n\n\nThe dinner featured  Italian salami and cheese in the antipasto plate. The second course featured a light and fresh salad\, leading to the next course of cannelloni. \n\n\n\nHopefully you saved lots of room because it was time for the main course\, a beautiful beef tenderloin and glazed chicken accompanied by fresh vegetables. \n\n\n\nDid we mention the wonderful wine that was on the table? \n\n\n\nAs you sat back with a full tummy\, there was more.  A decadent chocolate silk tart was served along with coffee and tea. \n\n\n\nAnd of course\, in the lounge a bit later was espresso and a huge spread of pastries! \n\n\n\n\n\n\nAN ITALIAN MEAL NONNA WOULD BE PROUD OF:\n\n\n\nAntipasto \n\n\n\n Prosciutto di Parma\, Genoa salami\, capocollo\, artichokes\, spicy eggplant\, roasted peppers\, olive medley and provolone cheese \n\n\n\nInsalata \n\n\n\nCaprese salad with bufala mozzarella\, microcress and greens\, tomato confit\, roasted peppers\, fresh peppers\, pesto with a roasted garlic olive oil emulsion and balsamic glaze \n\n\n\nPrimo Piatto \n\n\n\nCannelloni with ricotta\, spinach\, veal and pork with homemade tomato sauce \n\n\n\nIl Secondo \n\n\n\n4 oz. Angus beef tenderloin and rosemary roasted chicken supreme with a red wine gastrique. Served with sundried tomato and basil braised potato wedges\, glazed carrots and broccolini \n\n\n\nDolce \n\n\n\nChocolate silk tart served with whipped cream\, dulce de leche\, crushed hazelnuts and a chocolate fan \n\n\n\nCoffee and Tea \n\n\n\nDessert & Espresso Lounge \n\n\n\n\n\n\nEvent Chairs\n\n\n\nGary Doer – Honourary Co-Chair\n\n\n\n\n\n\n\nFormer premier and diplomat Gary Doer has led a storied career in his home province of Manitoba and abroad in Washington—serving as Manitoba’s 20th Premier from 1999 to 2009 and as Canada’s Ambassador to the United States from 2009 to 2016.  \n\n\n\nDoer’s political journey spans four decades\, with roots dating back to Ed Schreyer’s 1973 general election campaign and the NDP’s second victory at the ballot box. After 11 years as Leader of the Opposition\, Doer and the New Democrats won the 1999 election. \n\n\n\nWinning three straight majority governments\, Doer used his popularity to shape Manitoba in a way that allowed for further growth and success including support for the Canadian Museum for Human Rights\, help to renovate Winnipeg’s downtown and expansion of the Red-River floodway — continuing his investment in protecting Manitoba’s capital for generations to come.  \n\n\n\nLeney Richardson – Honourary Co-Chair\n\n\n\n\n\n\n\nLeney Richardson has served as Finance Chair on the Board of the Bruce and Anne Oake Memorial Foundation since its inception. A graduate of the University of Manitoba with a Bachelor of Commerce degree\, Leney also holds the Chartered Financial Analyst (CFA) designation. \n\n\n\nWith an extensive professional background in the investment industry\, Leney brings invaluable expertise in finance\, strategic planning\, and governance to her role. She has served in leadership capacities on the boards of numerous institutions. \n\n\n\nHer dedication to the community and her passion for creating meaningful impact make us grateful to have her an exceptional Honourary Co-Chair for the Sons and Daughters of Italy Gala benefiting the Bruce and Anne Oake Memorial Foundation. \n\n\n\nMark Scaletta – Gala Co-Chair\n\n\n\nTravis Giavedoni – Gala Co-Chair\n\n\n\n\n\n\n\nGallery\n\n\n\nll photos by Kassandra Donaldson\, post edits by John Giavedoni \n\n\n\nGala Night\n\n\n\nSaturday March 15th \n\n\n\n\n\n\n\n\n\n\n\n\n\n\n\n\n\n\n\n\n\n\n\n\n\n\n\n\n\n\n\n\n\n\n\n\n\n\n\n\n\n\n\n\n\n\n\n\n\n\n\n\n\n\n\n\n\n\n\n\n\n\n\n\n\n\n\n\n\n\n\n\n\n\n\n\n\n\n\n\n\n\n\n\n\n\n\n\n\n\n\n\n\n\n\n\n\n\n\n\n\n\n\n\n\nPresident’s Reception\n\n\n\nFriday March 14th \n\n\n\nThe “President’s Reception” is an invitation-only event to thank the major sponsors and contributors of the Gala for their support. 
URL:https://sonsanddaughtersofitaly.org/event/sons-and-daughters-of-italy-gala-2025/
LOCATION:RBC Convention Centre\, 375 York Ave\, Winnipeg\, Manitoba\, R3C 3J3\, Canada
CATEGORIES:Gala
ATTACH;FMTTYPE=image/png:https://sonsanddaughtersofitaly.org/wp-content/uploads/2025/10/37th-Logo-with-green-background.png
END:VEVENT
BEGIN:VEVENT
DTSTART;TZID=America/Winnipeg:20250614T080000
DTEND;TZID=America/Winnipeg:20250614T170000
DTSTAMP:20260422T170929
CREATED:20251014T195724Z
LAST-MODIFIED:20251113T205433Z
UID:444-1749888000-1749920400@sonsanddaughtersofitaly.org
SUMMARY:Challenge for Life - SDOI Team
DESCRIPTION:The Challenge for Life is a 5k or 20k walk that will take participants through some of Winnipeg’s most beautiful and historic neighbourhoods on Saturday\, June 14th\, 2025.The walk was created by the CancerCare Manitoba Foundation to help Manitobans reduce their risk of cancer and increase awareness for ALL cancers\, while raising significant funds to support CancerCare Manitoba’s work on behalf of Manitobans and their families living with cancer.The Sons and Daughters of Italy have been supporters of this event for over 11 years\, raising over $342\,900.  Our goal this year is to raise $30\,000!  We are asking for you\, your friends and family to enrol as participants so we can raise as much money as possible.  Join us this year in supporting the fight:  o  if you can walk\, join our walking team\, or  o  if not\, sponsor one of our walkersCheck out the pictures from past SDOI Challenge for Life walks\, then please support the team!  For more info\, please contact our team captain\, Cori Giavedoni
URL:https://sonsanddaughtersofitaly.org/event/challenge-for-life-sdoi-team/
LOCATION:MB
CATEGORIES:Challenge For Life,Event
ATTACH;FMTTYPE=image/jpeg:https://sonsanddaughtersofitaly.org/wp-content/uploads/2025/10/Challenge-for-Life-2021.jpg
END:VEVENT
BEGIN:VEVENT
DTSTART;TZID=America/Winnipeg:20251210T180000
DTEND;TZID=America/Winnipeg:20251210T203000
DTSTAMP:20260422T170929
CREATED:20251119T223231Z
LAST-MODIFIED:20251129T032810Z
UID:1761-1765389600-1765398600@sonsanddaughtersofitaly.org
SUMMARY:SDOI Member Meeting
DESCRIPTION:Our monthly meeting of Sons and Daughters of Italy\, Garibaldi Lodge members.  This is a business meeting that includes some networking time and a full dinner.  \n\n\n\nFrom 6:00 – 7:00 there will be wine in the room\, and members are encouraged to meet and mingle. \n\n\n\nSchedule\n\n\n\n6:00 – 6:30 Networking6:30 – 7:00 Dinner7:00 – 8:30 Meeting \n\n\n\nCost\n\n\n\n$30 – with dinner\, if paid online with registration$35 – with dinner\, if not registered in advancefree – without dinner\, or if it is your birthday month \n\n\n\n\n\n\n\n\n\n\nRegister\n\n\n\n\n\n\n\n\n\n\n\n\n\n\n\nWho’s attending\n\n\nNo one is coming so far...
URL:https://sonsanddaughtersofitaly.org/event/sdoi-member-meeting-2/
LOCATION:Villa Nova\, 1035 Wilkes Avenue\, Winnipeg\, MB\, R3P 1T1\, Canada
CATEGORIES:Meeting
END:VEVENT
BEGIN:VEVENT
DTSTART;TZID=America/Winnipeg:20260314T183000
DTEND;TZID=America/Winnipeg:20260314T233000
DTSTAMP:20260422T170929
CREATED:20251119T171113Z
LAST-MODIFIED:20260212T133135Z
UID:1709-1773513000-1773531000@sonsanddaughtersofitaly.org
SUMMARY:Sons and Daughters of Italy Gala 2026
DESCRIPTION:The Sons and Daughters of Italy – Garibaldi Lodge proudly presents our Annual Gala: a night of elegance\, celebration\, and giving back. \n\n\n\nThis year\, we’re supporting the REH-FIT Centre\, enhancing the health and well-being of the community. \n\n\n\nEnjoy a gourmet dinner\, live entertainment\, and the warmth of community—all while making a difference. Save the date and be part of something meaningful. \n\n\n\nIt brings us great pleasure to announce the 38th Annual Sons and Daughters of Italy Gala Feature Entertainment: Alan Frew Lead Singer of Canadian Music Hall of Fame Glass Tiger. Get ready to sing some of your favourite hits from the 1980’s. \n\n\n\n\n\n\n\nThe Sons and Daughters of Italy are Proud to Announce the 2026 Heart of the Lion Award Recipient: Mabel Garcea. \n\n\n\n\n\n\n\nInterested in Gala Sponsorship? Review our downloadable gala sponsorship information and reach out or purchase online. \n\n\n\n\n\n\n\n\n\n\n\n\n\n\n\n\n\n\n\n\n\n\n\n\nBuy Tickets\n\n\n\n\nInformation for Sponsors
URL:https://sonsanddaughtersofitaly.org/event/sons-and-daughters-of-italy-gala-2026/
LOCATION:RBC Convention Centre\, 375 York Ave\, Winnipeg\, Manitoba\, R3C 3J3\, Canada
CATEGORIES:Gala
ATTACH;FMTTYPE=image/jpeg:https://sonsanddaughtersofitaly.org/wp-content/uploads/2025/11/38thannualgala.jpg
END:VEVENT
BEGIN:VEVENT
DTSTART;TZID=America/Winnipeg:20260613T080000
DTEND;TZID=America/Winnipeg:20260613T170000
DTSTAMP:20260422T170929
CREATED:20251119T170800Z
LAST-MODIFIED:20251124T080903Z
UID:1706-1781337600-1781370000@sonsanddaughtersofitaly.org
SUMMARY:Join the Sons and Daughters of Italy Team for Challenge for Life
DESCRIPTION:Walk. Move. Make a Difference.\n\n\n\nChallenge for Life is a powerful community event created by the CancerCare Manitoba Foundation to raise awareness for all cancers and promote healthier lifestyles across Manitoba. Participants can choose from a 5k or 20k walk\, a 200-minute group workout\, or a virtual challenge in support of Manitobans and their families living with cancer. \n\n\n\nProudly Representing: Sons and Daughters of Italy\n\n\n\nFor over 12 years\, the Sons and Daughters of Italy have proudly supported Challenge for Life\, raising more than $372\,200 to date. This year\, we’re aiming to raise $30\,000\, and we need your help to get there! \n\n\n\nWhether you walk with us or sponsor a team member\, your support makes a real impact. \n\n\n\nWays to Get Involved:\n\n\n\n\nJoin our walking team and take part in the 5k or 20k walk\n\n\n\nSponsor a walker if you’re unable to participate\n\n\n\n\nSee the Impact\n\n\n\nBrowse photos from past SDOI Challenge for Life events and see the energy\, pride\, and community spirit that define our team. \n\n\n\nContact Us\n\n\n\nFor more information or to join the team\, please reach out to our team captain: Cori Giavedoni
URL:https://sonsanddaughtersofitaly.org/event/join-the-sons-and-daughters-of-italy-team-for-challenge-for-life/
LOCATION:MB
CATEGORIES:Challenge For Life,Event
ATTACH;FMTTYPE=image/jpeg:https://sonsanddaughtersofitaly.org/wp-content/uploads/2025/10/Challenge-for-Life-2021.jpg
END:VEVENT
END:VCALENDAR